Package: methodical Version: 1.2.0 Command: rm -rf methodical.buildbin-libdir && mkdir methodical.buildbin-libdir && /Users/biocbuild/BBS/utils/build-universal.sh methodical_1.2.0.tar.gz /Library/Frameworks/R.framework/Resources/bin/R methodical.buildbin-libdir StartedAt: 2025-02-04 13:23:24 -0500 (Tue, 04 Feb 2025) EndedAt: 2025-02-04 13:24:55 -0500 (Tue, 04 Feb 2025) EllapsedTime: 91.3 seconds RetCode: 0 Status: OK PackageFile: methodical_1.2.0.tgz PackageFileSize: 4.531 MiB