Package: methodical Version: 1.2.0 Command: /Library/Frameworks/R.framework/Resources/bin/R CMD build --keep-empty-dirs --no-resave-data methodical StartedAt: 2025-02-17 20:15:08 -0500 (Mon, 17 Feb 2025) EndedAt: 2025-02-17 20:46:17 -0500 (Mon, 17 Feb 2025) EllapsedTime: 1868.9 seconds RetCode: 0 Status: OK PackageFile: methodical_1.2.0.tar.gz PackageFileSize: 4.369 <A href="http://en.wikipedia.org/wiki/MiB" target="_blank">MiB</A>