Package: methodical Version: 1.2.0 Command: /Library/Frameworks/R.framework/Resources/bin/R CMD INSTALL methodical StartedAt: 2025-02-03 16:43:59 -0500 (Mon, 03 Feb 2025) EndedAt: 2025-02-03 16:45:23 -0500 (Mon, 03 Feb 2025) EllapsedTime: 83.6 seconds RetCode: 0 Status: OK