Package: methodical Version: 1.2.0 Command: /home/biocbuild/bbs-3.20-bioc/R/bin/R CMD check --install=check:methodical.install-out.txt --library=/home/biocbuild/bbs-3.20-bioc/R/site-library --timings methodical_1.2.0.tar.gz StartedAt: 2025-02-03 23:57:15 -0500 (Mon, 03 Feb 2025) EndedAt: 2025-02-04 00:20:48 -0500 (Tue, 04 Feb 2025) EllapsedTime: 1412.3 seconds RetCode: 0 Status: WARNINGS CheckDir: methodical.Rcheck Warnings: 1