##############################################################################
##############################################################################
###
### Running command:
###
###   chmod a+r methodical -R && F:\biocbuild\bbs-3.20-bioc\R\bin\R.exe CMD build --keep-empty-dirs --no-resave-data methodical
###
##############################################################################
##############################################################################


* checking for file 'methodical/DESCRIPTION' ... OK
* preparing 'methodical':
* checking DESCRIPTION meta-information ... OK
* installing the package to build vignettes
* creating vignettes ...