Package: methodical Version: 1.2.0 Command: /home/biocbuild/R/R/bin/R CMD build --keep-empty-dirs --no-resave-data methodical StartedAt: 2025-02-04 00:48:55 -0000 (Tue, 04 Feb 2025) EndedAt: 2025-02-04 00:51:41 -0000 (Tue, 04 Feb 2025) EllapsedTime: 166.0 seconds RetCode: 1 Status: ERROR PackageFile: None PackageFileSize: NA