Package: methodical Version: 1.2.0 Command: /home/biocbuild/R/R/bin/R CMD INSTALL methodical StartedAt: 2025-02-03 21:19:48 -0000 (Mon, 03 Feb 2025) EndedAt: 2025-02-03 21:20:38 -0000 (Mon, 03 Feb 2025) EllapsedTime: 49.6 seconds RetCode: 0 Status: OK