Package: methrix Version: 1.20.0 Command: /Library/Frameworks/R.framework/Resources/bin/R CMD build --keep-empty-dirs --no-resave-data methrix StartedAt: 2025-02-04 03:02:32 -0500 (Tue, 04 Feb 2025) EndedAt: 2025-02-04 03:09:46 -0500 (Tue, 04 Feb 2025) EllapsedTime: 433.5 seconds RetCode: 0 Status: OK PackageFile: methrix_1.20.0.tar.gz PackageFileSize: 4.077 MiB