Package: methrix
Version: 1.20.0
Command: /Library/Frameworks/R.framework/Resources/bin/R CMD build --keep-empty-dirs --no-resave-data methrix
StartedAt: 2024-11-08 18:02:42 -0500 (Fri, 08 Nov 2024)
EndedAt: 2024-11-08 18:04:18 -0500 (Fri, 08 Nov 2024)
EllapsedTime: 96.0 seconds
RetCode: 0
Status: OK
PackageFile: methrix_1.20.0.tar.gz
PackageFileSize: 4.077 <A href="http://en.wikipedia.org/wiki/MiB" target="_blank">MiB</A>