Package: methrix Version: 1.20.0 Command: /home/biocbuild/bbs-3.20-bioc/R/bin/R CMD build --keep-empty-dirs --no-resave-data --md5 methrix StartedAt: 2025-02-03 18:08:47 -0500 (Mon, 03 Feb 2025) EndedAt: 2025-02-03 18:12:26 -0500 (Mon, 03 Feb 2025) EllapsedTime: 219.2 seconds RetCode: 0 Status: OK PackageFile: methrix_1.20.0.tar.gz PackageFileSize: 3.994 MiB