Package: methrix Version: 1.20.0 Command: rm -rf methrix.buildbin-libdir && mkdir methrix.buildbin-libdir && F:\biocbuild\bbs-3.20-bioc\R\bin\R.exe CMD INSTALL --build --library=methrix.buildbin-libdir methrix_1.20.0.tar.gz StartedAt: 2025-02-04 08:53:41 -0500 (Tue, 04 Feb 2025) EndedAt: 2025-02-04 08:54:30 -0500 (Tue, 04 Feb 2025) EllapsedTime: 48.6 seconds RetCode: 0 Status: OK PackageFile: methrix_1.20.0.zip PackageFileSize: 3.152 MiB