Package: methrix Version: 1.20.0 Command: /home/biocbuild/R/R/bin/R CMD INSTALL methrix StartedAt: 2025-02-03 20:41:44 -0000 (Mon, 03 Feb 2025) EndedAt: 2025-02-03 20:42:33 -0000 (Mon, 03 Feb 2025) EllapsedTime: 49.6 seconds RetCode: 0 Status: OK