Package: methyLImp2 Version: 1.2.0 Command: /Library/Frameworks/R.framework/Resources/bin/R CMD build --keep-empty-dirs --no-resave-data methyLImp2 StartedAt: 2025-02-03 20:12:46 -0500 (Mon, 03 Feb 2025) EndedAt: 2025-02-03 20:14:22 -0500 (Mon, 03 Feb 2025) EllapsedTime: 95.6 seconds RetCode: 0 Status: OK PackageFile: methyLImp2_1.2.0.tar.gz PackageFileSize: 1.261 MiB