Package: methyLImp2
Version: 1.2.0
Command: /home/biocbuild/bbs-3.20-bioc/R/bin/R CMD build --keep-empty-dirs --no-resave-data --md5 methyLImp2
StartedAt: 2025-02-17 17:55:47 -0500 (Mon, 17 Feb 2025)
EndedAt: 2025-02-17 17:56:35 -0500 (Mon, 17 Feb 2025)
EllapsedTime: 48.0 seconds
RetCode: 0
Status: OK
PackageFile: methyLImp2_1.2.0.tar.gz
PackageFileSize: 1.263 <A href="http://en.wikipedia.org/wiki/MiB" target="_blank">MiB</A>