Package: methyLImp2 Version: 1.2.0 Command: /home/biocbuild/R/R/bin/R CMD check --install=check:methyLImp2.install-out.txt --library=/home/biocbuild/R/R/site-library --no-vignettes --timings methyLImp2_1.2.0.tar.gz StartedAt: 2025-02-04 08:40:06 -0000 (Tue, 04 Feb 2025) EndedAt: 2025-02-04 08:43:35 -0000 (Tue, 04 Feb 2025) EllapsedTime: 209.2 seconds RetCode: 0 Status: OK CheckDir: methyLImp2.Rcheck Warnings: 0