Package: methylCC Version: 1.20.0 Command: /Library/Frameworks/R.framework/Resources/bin/R CMD build --keep-empty-dirs --no-resave-data methylCC StartedAt: 2025-02-04 03:09:14 -0500 (Tue, 04 Feb 2025) EndedAt: 2025-02-04 03:14:10 -0500 (Tue, 04 Feb 2025) EllapsedTime: 296.2 seconds RetCode: 0 Status: OK PackageFile: methylCC_1.20.0.tar.gz PackageFileSize: 4.378 MiB