Package: methylCC Version: 1.20.0 Command: /Library/Frameworks/R.framework/Resources/bin/R CMD INSTALL methylCC StartedAt: 2025-02-03 18:03:58 -0500 (Mon, 03 Feb 2025) EndedAt: 2025-02-03 18:04:58 -0500 (Mon, 03 Feb 2025) EllapsedTime: 60.7 seconds RetCode: 0 Status: OK