Package: methylCC Version: 1.20.0 Command: /Library/Frameworks/R.framework/Resources/bin/R CMD build --keep-empty-dirs --no-resave-data methylCC StartedAt: 2024-11-08 18:03:17 -0500 (Fri, 08 Nov 2024) EndedAt: 2024-11-08 18:04:41 -0500 (Fri, 08 Nov 2024) EllapsedTime: 83.8 seconds RetCode: 0 Status: OK PackageFile: methylCC_1.20.0.tar.gz PackageFileSize: 4.378 MiB