Package: methylCC Version: 1.20.0 Command: /home/biocbuild/R/R/bin/R CMD check --install=check:methylCC.install-out.txt --library=/home/biocbuild/R/R/site-library --no-vignettes --timings methylCC_1.20.0.tar.gz StartedAt: 2024-11-20 09:42:12 -0000 (Wed, 20 Nov 2024) EndedAt: 2024-11-20 09:51:34 -0000 (Wed, 20 Nov 2024) EllapsedTime: 562.0 seconds RetCode: 0 Status: OK CheckDir: methylCC.Rcheck Warnings: 0