Package: methylCC Version: 1.20.0 Command: /Library/Frameworks/R.framework/Resources/bin/R CMD INSTALL methylCC StartedAt: 2025-01-30 16:40:28 -0500 (Thu, 30 Jan 2025) EndedAt: 2025-01-30 16:42:13 -0500 (Thu, 30 Jan 2025) EllapsedTime: 104.8 seconds RetCode: 0 Status: OK