Package: methylCC Version: 1.20.0 Command: /home/biocbuild/bbs-3.20-bioc/R/bin/R CMD build --keep-empty-dirs --no-resave-data --md5 methylCC StartedAt: 2025-01-30 17:59:48 -0500 (Thu, 30 Jan 2025) EndedAt: 2025-01-30 18:03:11 -0500 (Thu, 30 Jan 2025) EllapsedTime: 203.2 seconds RetCode: 0 Status: OK PackageFile: methylCC_1.20.0.tar.gz PackageFileSize: 4.375 MiB