Package: methylCC Version: 1.20.0 Command: rm -rf methylCC.buildbin-libdir && mkdir methylCC.buildbin-libdir && F:\biocbuild\bbs-3.20-bioc\R\bin\R.exe CMD INSTALL --build --library=methylCC.buildbin-libdir methylCC_1.20.0.tar.gz StartedAt: 2025-01-31 09:01:26 -0500 (Fri, 31 Jan 2025) EndedAt: 2025-01-31 09:02:26 -0500 (Fri, 31 Jan 2025) EllapsedTime: 60.6 seconds RetCode: 0 Status: OK PackageFile: methylCC_1.20.0.zip PackageFileSize: 4.652 MiB