Package: methylCC Version: 1.20.0 Command: chmod a+r methylCC -R && F:\biocbuild\bbs-3.20-bioc\R\bin\R.exe CMD build --keep-empty-dirs --no-resave-data methylCC StartedAt: 2025-02-03 20:15:53 -0500 (Mon, 03 Feb 2025) EndedAt: 2025-02-03 20:20:35 -0500 (Mon, 03 Feb 2025) EllapsedTime: 281.6 seconds RetCode: 0 Status: OK PackageFile: methylCC_1.20.0.tar.gz PackageFileSize: 4.315 MiB