Package: methylCC Version: 1.20.0 Command: /home/biocbuild/R/R/bin/R CMD build --keep-empty-dirs --no-resave-data methylCC StartedAt: 2025-01-31 00:48:19 -0000 (Fri, 31 Jan 2025) EndedAt: 2025-01-31 00:52:14 -0000 (Fri, 31 Jan 2025) EllapsedTime: 235.1 seconds RetCode: 0 Status: OK PackageFile: methylCC_1.20.0.tar.gz PackageFileSize: 4.387 MiB