Package: methylGSA
Version: 1.24.0
Command: /home/biocbuild/R/R/bin/R CMD build --keep-empty-dirs --no-resave-data methylGSA
StartedAt: 2024-11-20 02:00:13 -0000 (Wed, 20 Nov 2024)
EndedAt: 2024-11-20 02:02:22 -0000 (Wed, 20 Nov 2024)
EllapsedTime: 129.2 seconds
RetCode: 0
Status: OK
PackageFile: methylGSA_1.24.0.tar.gz
PackageFileSize: 3.132 <A href="http://en.wikipedia.org/wiki/MiB" target="_blank">MiB</A>