Package: methylGSA Version: 1.24.0 Command: /Library/Frameworks/R.framework/Resources/bin/R CMD build --keep-empty-dirs --no-resave-data methylGSA StartedAt: 2025-02-03 20:12:36 -0500 (Mon, 03 Feb 2025) EndedAt: 2025-02-03 20:15:46 -0500 (Mon, 03 Feb 2025) EllapsedTime: 189.6 seconds RetCode: 0 Status: OK PackageFile: methylGSA_1.24.0.tar.gz PackageFileSize: 3.151 MiB