Package: methylGSA Version: 1.24.0 Command: /Library/Frameworks/R.framework/Resources/bin/R CMD check --install=check:methylGSA.install-out.txt --library=/Library/Frameworks/R.framework/Resources/library --no-vignettes --timings methylGSA_1.24.0.tar.gz StartedAt: 2025-02-04 06:08:22 -0500 (Tue, 04 Feb 2025) EndedAt: 2025-02-04 06:20:43 -0500 (Tue, 04 Feb 2025) EllapsedTime: 740.8 seconds RetCode: 0 Status: OK CheckDir: methylGSA.Rcheck Warnings: 0