Package: methylGSA Version: 1.24.0 Command: /home/biocbuild/bbs-3.20-bioc/R/bin/R CMD INSTALL methylGSA StartedAt: 2025-02-03 16:14:40 -0500 (Mon, 03 Feb 2025) EndedAt: 2025-02-03 16:15:22 -0500 (Mon, 03 Feb 2025) EllapsedTime: 41.7 seconds RetCode: 0 Status: OK