Package: methylGSA Version: 1.24.0 Command: /home/biocbuild/R/R/bin/R CMD build --keep-empty-dirs --no-resave-data methylGSA StartedAt: 2025-02-18 00:49:10 -0000 (Tue, 18 Feb 2025) EndedAt: 2025-02-18 00:51:06 -0000 (Tue, 18 Feb 2025) EllapsedTime: 116.0 seconds RetCode: 0 Status: OK PackageFile: methylGSA_1.24.0.tar.gz PackageFileSize: 3.132 <A href="http://en.wikipedia.org/wiki/MiB" target="_blank">MiB</A>