Package: methylGSA Version: 1.24.0 Command: /home/biocbuild/R/R/bin/R CMD INSTALL methylGSA StartedAt: 2025-02-03 21:29:12 -0000 (Mon, 03 Feb 2025) EndedAt: 2025-02-03 21:30:05 -0000 (Mon, 03 Feb 2025) EllapsedTime: 53.7 seconds RetCode: 0 Status: OK