Package: methylKit Version: 1.32.0 Command: /Library/Frameworks/R.framework/Resources/bin/R CMD check --install=check:methylKit.install-out.txt --library=/Library/Frameworks/R.framework/Resources/library --no-vignettes --timings methylKit_1.32.0.tar.gz StartedAt: 2025-02-05 01:28:29 -0500 (Wed, 05 Feb 2025) EndedAt: 2025-02-05 01:35:07 -0500 (Wed, 05 Feb 2025) EllapsedTime: 397.8 seconds RetCode: 0 Status: OK CheckDir: methylKit.Rcheck Warnings: 0