Package: methylKit Version: 1.32.0 Command: /home/biocbuild/bbs-3.20-bioc/R/bin/R CMD check --install=check:methylKit.install-out.txt --library=/home/biocbuild/bbs-3.20-bioc/R/site-library --timings methylKit_1.32.0.tar.gz StartedAt: 2025-02-04 00:00:28 -0500 (Tue, 04 Feb 2025) EndedAt: 2025-02-04 00:06:43 -0500 (Tue, 04 Feb 2025) EllapsedTime: 375.3 seconds RetCode: 0 Status: OK CheckDir: methylKit.Rcheck Warnings: 0