Package: methylKit Version: 1.32.0 Command: rm -rf methylKit.buildbin-libdir && mkdir methylKit.buildbin-libdir && F:\biocbuild\bbs-3.20-bioc\R\bin\R.exe CMD INSTALL --build --library=methylKit.buildbin-libdir methylKit_1.32.0.tar.gz StartedAt: 2025-02-04 08:54:15 -0500 (Tue, 04 Feb 2025) EndedAt: 2025-02-04 08:56:56 -0500 (Tue, 04 Feb 2025) EllapsedTime: 161.3 seconds RetCode: 0 Status: OK PackageFile: methylKit_1.32.0.zip PackageFileSize: 7.063 MiB