Package: methylKit Version: 1.32.0 Command: F:\biocbuild\bbs-3.20-bioc\R\bin\R.exe CMD check --no-multiarch --install=check:methylKit.install-out.txt --library=F:\biocbuild\bbs-3.20-bioc\R\library --no-vignettes --timings methylKit_1.32.0.tar.gz StartedAt: 2025-02-04 03:37:38 -0500 (Tue, 04 Feb 2025) EndedAt: 2025-02-04 03:46:45 -0500 (Tue, 04 Feb 2025) EllapsedTime: 547.4 seconds RetCode: 0 Status: OK CheckDir: methylKit.Rcheck Warnings: 0