Package: methylPipe Version: 1.40.0 Command: /Library/Frameworks/R.framework/Resources/bin/R CMD check --install=check:methylPipe.install-out.txt --library=/Library/Frameworks/R.framework/Resources/library --no-vignettes --timings methylPipe_1.40.0.tar.gz StartedAt: 2025-02-11 06:14:26 -0500 (Tue, 11 Feb 2025) EndedAt: 2025-02-11 06:29:35 -0500 (Tue, 11 Feb 2025) EllapsedTime: 909.0 seconds RetCode: 0 Status: WARNINGS CheckDir: methylPipe.Rcheck Warnings: 2