Package: methylPipe Version: 1.40.0 Command: rm -rf methylPipe.buildbin-libdir && mkdir methylPipe.buildbin-libdir && F:\biocbuild\bbs-3.20-bioc\R\bin\R.exe CMD INSTALL --build --library=methylPipe.buildbin-libdir methylPipe_1.40.0.tar.gz StartedAt: 2025-02-04 08:54:26 -0500 (Tue, 04 Feb 2025) EndedAt: 2025-02-04 08:56:16 -0500 (Tue, 04 Feb 2025) EllapsedTime: 109.3 seconds RetCode: 0 Status: OK PackageFile: methylPipe_1.40.0.zip PackageFileSize: 1.476 MiB