Package: methylPipe Version: 1.40.0 Command: F:\biocbuild\bbs-3.20-bioc\R\bin\R.exe CMD check --no-multiarch --install=check:methylPipe.install-out.txt --library=F:\biocbuild\bbs-3.20-bioc\R\library --no-vignettes --timings methylPipe_1.40.0.tar.gz StartedAt: 2025-02-04 03:38:05 -0500 (Tue, 04 Feb 2025) EndedAt: 2025-02-04 03:46:48 -0500 (Tue, 04 Feb 2025) EllapsedTime: 522.8 seconds RetCode: 0 Status: WARNINGS CheckDir: methylPipe.Rcheck Warnings: 2