Package: methylPipe Version: 1.40.0 Command: /home/biocbuild/R/R/bin/R CMD check --install=check:methylPipe.install-out.txt --library=/home/biocbuild/R/R/site-library --no-vignettes --timings methylPipe_1.40.0.tar.gz StartedAt: 2025-02-04 08:41:17 -0000 (Tue, 04 Feb 2025) EndedAt: 2025-02-04 08:50:02 -0000 (Tue, 04 Feb 2025) EllapsedTime: 525.7 seconds RetCode: 0 Status: WARNINGS CheckDir: methylPipe.Rcheck Warnings: 2