Package: methylSig Version: 1.18.0 Command: rm -rf methylSig.buildbin-libdir && mkdir methylSig.buildbin-libdir && /Users/biocbuild/BBS/utils/build-universal.sh methylSig_1.18.0.tar.gz /Library/Frameworks/R.framework/Resources/bin/R methylSig.buildbin-libdir StartedAt: 2025-02-01 15:41:46 -0500 (Sat, 01 Feb 2025) EndedAt: 2025-02-01 15:42:49 -0500 (Sat, 01 Feb 2025) EllapsedTime: 62.4 seconds RetCode: 0 Status: OK PackageFile: methylSig_1.18.0.tgz PackageFileSize: 580.8 KiB