Package: methylSig Version: 1.18.0 Command: /Library/Frameworks/R.framework/Resources/bin/R CMD INSTALL methylSig StartedAt: 2025-01-30 16:08:42 -0500 (Thu, 30 Jan 2025) EndedAt: 2025-01-30 16:09:42 -0500 (Thu, 30 Jan 2025) EllapsedTime: 59.8 seconds RetCode: 0 Status: OK