Package: methylSig Version: 1.18.0 Command: rm -rf methylSig.buildbin-libdir && mkdir methylSig.buildbin-libdir && /Users/biocbuild/BBS/utils/build-universal.sh methylSig_1.18.0.tar.gz /Library/Frameworks/R.framework/Resources/bin/R methylSig.buildbin-libdir StartedAt: 2025-01-31 13:08:52 -0500 (Fri, 31 Jan 2025) EndedAt: 2025-01-31 13:10:40 -0500 (Fri, 31 Jan 2025) EllapsedTime: 108.5 seconds RetCode: 0 Status: OK PackageFile: methylSig_1.18.0.tgz PackageFileSize: 581 KiB