Package: methylSig Version: 1.18.0 Command: /Library/Frameworks/R.framework/Resources/bin/R CMD build --keep-empty-dirs --no-resave-data methylSig StartedAt: 2025-01-30 20:34:57 -0500 (Thu, 30 Jan 2025) EndedAt: 2025-01-30 20:38:57 -0500 (Thu, 30 Jan 2025) EllapsedTime: 240.3 seconds RetCode: 0 Status: OK PackageFile: methylSig_1.18.0.tar.gz PackageFileSize: 492.4 KiB