Package: methylSig Version: 1.18.0 Command: /home/biocbuild/bbs-3.20-bioc/R/bin/R CMD INSTALL methylSig StartedAt: 2025-01-30 15:24:20 -0500 (Thu, 30 Jan 2025) EndedAt: 2025-01-30 15:25:10 -0500 (Thu, 30 Jan 2025) EllapsedTime: 50.3 seconds RetCode: 0 Status: OK