Package: methylSig Version: 1.18.0 Command: rm -rf methylSig.buildbin-libdir && mkdir methylSig.buildbin-libdir && F:\biocbuild\bbs-3.20-bioc\R\bin\R.exe CMD INSTALL --build --library=methylSig.buildbin-libdir methylSig_1.18.0.tar.gz StartedAt: 2025-01-31 09:01:57 -0500 (Fri, 31 Jan 2025) EndedAt: 2025-01-31 09:02:59 -0500 (Fri, 31 Jan 2025) EllapsedTime: 62.2 seconds RetCode: 0 Status: OK PackageFile: methylSig_1.18.0.zip PackageFileSize: 590 KiB