Package: methylSig Version: 1.18.0 Command: chmod a+r methylSig -R && F:\biocbuild\bbs-3.20-bioc\R\bin\R.exe CMD build --keep-empty-dirs --no-resave-data methylSig StartedAt: 2025-01-30 20:04:12 -0500 (Thu, 30 Jan 2025) EndedAt: 2025-01-30 20:06:54 -0500 (Thu, 30 Jan 2025) EllapsedTime: 162.2 seconds RetCode: 0 Status: OK PackageFile: methylSig_1.18.0.tar.gz PackageFileSize: 493.1 KiB