Package: methylSig Version: 1.18.0 Command: /home/biocbuild/R/R/bin/R CMD INSTALL methylSig StartedAt: 2025-02-03 20:44:03 -0000 (Mon, 03 Feb 2025) EndedAt: 2025-02-03 20:45:03 -0000 (Mon, 03 Feb 2025) EllapsedTime: 60.4 seconds RetCode: 0 Status: OK