Package: methylclock Version: 1.12.0 Command: rm -rf methylclock.buildbin-libdir && mkdir methylclock.buildbin-libdir && /Users/biocbuild/BBS/utils/build-universal.sh methylclock_1.12.0.tar.gz /Library/Frameworks/R.framework/Resources/bin/R methylclock.buildbin-libdir StartedAt: 2025-02-01 15:40:18 -0500 (Sat, 01 Feb 2025) EndedAt: 2025-02-01 15:41:46 -0500 (Sat, 01 Feb 2025) EllapsedTime: 88.8 seconds RetCode: 0 Status: OK PackageFile: methylclock_1.12.0.tgz PackageFileSize: 1.02 MiB