Package: methylclock Version: 1.12.0 Command: /Library/Frameworks/R.framework/Resources/bin/R CMD check --install=check:methylclock.install-out.txt --library=/Library/Frameworks/R.framework/Resources/library --no-vignettes --timings methylclock_1.12.0.tar.gz StartedAt: 2025-02-05 01:22:18 -0500 (Wed, 05 Feb 2025) EndedAt: 2025-02-05 01:37:59 -0500 (Wed, 05 Feb 2025) EllapsedTime: 941.3 seconds RetCode: 0 Status: OK CheckDir: methylclock.Rcheck Warnings: 0