Package: methylclock Version: 1.12.0 Command: /Library/Frameworks/R.framework/Resources/bin/R CMD INSTALL methylclock StartedAt: 2025-01-30 18:12:14 -0500 (Thu, 30 Jan 2025) EndedAt: 2025-01-30 18:13:37 -0500 (Thu, 30 Jan 2025) EllapsedTime: 83.0 seconds RetCode: 0 Status: OK