Package: methylclock Version: 1.12.0 Command: /Library/Frameworks/R.framework/Resources/bin/R CMD check --install=check:methylclock.install-out.txt --library=/Library/Frameworks/R.framework/Resources/library --no-vignettes --timings methylclock_1.12.0.tar.gz StartedAt: 2025-01-31 06:16:41 -0500 (Fri, 31 Jan 2025) EndedAt: 2025-01-31 06:35:12 -0500 (Fri, 31 Jan 2025) EllapsedTime: 1111.0 seconds RetCode: 0 Status: OK CheckDir: methylclock.Rcheck Warnings: 0